Workbook

Sheet 封面
A3: 昆明市嵩明县扶贫办2017年度扶贫项目绩效评价
A4: 评分表
A5: （包括：评1-2）
A9: 被评价单位：
A21: 填报日期： 年 月 日

Sheet 评-1县区级管理部门评分表 
A1: 评-2
A2: =封面!A3 -> 昆明市嵩明县扶贫办2017年度扶贫项目绩效评价
A3: 县区级管理部门评分表
A4: 一级指标 | B4: 二级指标 | C4: 指标说明 | D4: 评分标准 | E4: 标准分 | F4: 评价得分
A5: 1.项目管理（6分） | B5: 1.1组织领导情况（工作领导小组及办公室）（0.6分） | C5: 是否成立了专门的工作领导小组及办公室对扶贫项目进行领导和监督 | D5: 未成立专门的工作领导及办公室的，不得分 | E5: 0.6
B6: 1.2申报条件的审核（0.6分） | C6: 是否将申请扶贫项目资金单位资料进行收集，并审核、汇总、统一进行审查 | D6: 未进行指导与审核的，不得分 | E6: 0.6
B7: 1.3绩效目标考核情况（0.6分） | C7: 是否制定了扶贫项目的考核制度，对各项目单位扶贫项目的责任目标进行考核，并形成相关资料 | D7: 未按要求考核、或未形成相关资料的，不得分 | E7: 0.6
B8: 1.4绩效运行跟踪监控机制（0.6分） | C8: 是否对项目进行绩效运行跟踪监控，当项目执行绩效与绩效目标发生偏离时，主管部门要及时采取措施予以纠正，并报市扶贫办备案 | D8: 若进行了绩效运行跟踪监控的得满分，否则，不得分 | E8: 0.6
B9: 1.5项目目标责任书（0.6分） | C9: 是否按照《财政扶贫资金报账制管理办法（財农【2001】93号》管理办法的要求，项目实施单位与项目主管单位签订项目实施责任书及廉政建设承诺书 | D9: 若签订项目实施责任书及廉政建设承诺书得满分，否则，不得分 | E9: 0.6
B10: 1.6项目监督检查情况（0.6分） | C10: 是否对各具体项目实施情况和质量进行监督检查和指导，定期不定期的对项目实施情况及质量进行督促检查和指导，切实加强对项目的跟踪监测，按时收集上报项目实施进度报表。对实施进度缓慢、质量不符合规定要求、资金出现滞留的项目，要及时会同有关街道进行原因分析，提出有效方案 | D10: 若是否对各具体项目实施情况及质量进行监督检查得满分；否则，不得分 | E10: 0.6
B11: 1.7项目验收机制（0.6分） | C11: 是否对建立项目验收机制，对项目进行验收，验收内容包括项目计划完成情况、资金使用和管理、农户受益、廉政制度执行情况、档案管理，对不合格项目进行责任追究 | D11: 若建立了验收机制，并按相关制度对项目进行验收，对验收不合格的进行责任追究制的得满分，否则，有一项未按相关制度进行验收扣1分，有一项验收未通过未进行责任追究制的扣1分，标准分扣完为止 | E11: 0.6
B12: 1.8项目公示（0.4分） | C12: 是否根据《云南省扶贫资金项目公告公示管理办法（暂行）》采用公告公示得方式将所有扶贫项目建设情况和资金使用情况在项目实施地进行公告公示，批准实施的项目计划应在审批后10个工作日内进行公示，公示期不得少于7天 | D12: 若进行公示，得满分；若公示时间少于7天得1分；否则，不得分 | E12: 0.4
B13: 1.9项目公告、公示督查（0.3分） | C13: 是否根据《云南省扶贫资金项目公告公示管理办法（暂行）》的要求各级扶贫开发领导小组因对各相关单位扶贫资金公告公示的执行情况进行定期或不定期的监督 | D13: 若按要求对公告公示进行定期或不定期的监督，得满分；否则，不得分 | E13: 0.3
B14: 1.10项目绩效自评报告（0.6分） | C14: 是否根据相关文件的要求对当年项目实施情况进行总结，撰写绩效自评报告 | D14: 未完成年度项目绩效自评报告的，不得分 | E14: 0.6
B15: 1.11档案管理的规范性（0.5分） | C15: 与扶贫项目相关的档案资料是否全部进行了归档，资料是否完整、齐全规范 | D15: 若档案资料完整、齐全规范，得满分；否则，不得分 | E15: 0.5
A16: 2.资金管理（4分） | B16: 2.1资金拨付的及时性（0.6分） | C16: 是否及时将扶贫项目资金拨付各项目实施单位, | D16: 若及时拨付财政资金的，得满分；否则，不得分 | E16: 0.6
B17: 2.2项目资金管理制度（0.6分） | C17: 是否制定项目资金管理制度 | D17: 若制定项目资金管理制度得满分，否则，不得分 | E17: 0.6
B18: 2.3会计核算得规范性（0.6分） | C18: 是否按照《嵩明县财政专项扶贫资金管理办法》及财务制度对扶贫项目资金设立专户，并设置明细科目对项目资金进行单独核算 | D18: 若按相关制度及办法对扶贫项目资金设立专户，并设置明细科目对项目资金进行单独核算的，得满分；否则，不得分 | E18: 0.6
B19: 2.4资金监督检查情况（0.6分） | C19: 是否按照《云南省财政专项扶贫资金管理办法》的要求建立财政专项扶贫资金到位和管理使用的监督机制，各级人民政府及其财政、审计、监察、主管部门，应当加大对财政专项扶贫资金到位和使用情况监督检查的力度，确保财政资金能够按照相关文件规定及时使用，以有效发挥财政资金的使用效益 | D19: 若按相关制度的要求对扶贫资金进行监督和稽查的，不得分；否则，不得分 | E19: 0.6
B20: 2.5项目资金预拨款制（0.5分） | C20: 是否根据《嵩明县财政专项扶贫资金管理办法》扶贫项目启动时，首期预拨50%的资金作为项目实施或采购启动资金；工程进度到90%时，追拨30%资金；剩余20%资金待项目竣工验收合格提交审计局审计后拨付，对验收不合格的不在追拨剩余20% | D20: 若按相关制度的要求拨付项目资金，得满分；有一笔款项未按相关制度执行的扣1分，标准分扣完为止 | E20: 0.5
B21: 2.6项目资金回补报账制（0.5分） | C21: 是否根据《嵩明县财政专项扶贫资金管理办法》对扶贫项目资金实行县级回补报账制 | D21: 若按相关制度的要求对项目资金实行县级回补报账制，得满分；否则不得分 | E21: 0.5
B22: 2.7挤占、挪用、截留项目资金情况（0.6分） | C22: 资金是否被挤占、挪用、截留 | D22: 若不存在扶贫资金被挤占、挪用、截留的，得满分；否则，不得分 | E22: 0.6
D23: 合计 | E23: =SUM(E5:E22) -> 10 | F23: =SUM(F5:F22) -> 0

Sheet 评-2项目情况评分表
A1: 评-3
A2: =封面!A3 -> 昆明市嵩明县扶贫办2017年度扶贫项目绩效评价
A3: 项目情况评分表
A4: 一级指标 | B4: 二级指标 | C4: 三级指标 | D4: 四级指标 | E4: 指标解释 | F4: 评价标准 | G4: 标准分 | H4: 评价得分
A5: 1.投入情况（10分） | B5: 1.1项目立项（5分） | C5: 1.1.1项目立项规范性（3分） | D5: 1.1.1.1申报程序合规性（2分） | E5: 项目申报单位、申报项目是否符合《云南省财政扶贫资金产业项目管理暂行办法》等文件确定的申报程序及要求（项目申报程序：首先进行项目评审，评审通过后编制项目实施方案，申请立项请示及批复，拨付资金请示及批复） | F5: 若申报条件与相关文件确定的申报程序及要求相符，得满分；否则，不得分 | G5: 2 | H5: 2
D6: 1.1.1.2申报资料完整性（1分） | E6: 项目申报资料是否完整齐全，项目实施单位是否按照申报文件要求提交相关的申报资料 | F6: 若申报资料完成，得满分；否则，不得分 | G6: 2 | H6: 2
C7: 1.1.2绩效目标合理性（1分） | D7: 1.1.2.1绩效目标制定依据的充分性（0.5分） | E7: 所设定的目标是否符合年度工作计划等通知或相关文件 | F7: 若制定项目目标符合相关文件或计划，得满分；否则，不得分 | G7: 1 | H7: 1
D8: 1.1.2.2预期产出和效果实现的可能性（0.5分） | E8: 项目预期产出和效果是否符合客观实际，是否存在过分夸大项目预期绩效骗取财政资金的情况 | F8: 若项目产出和效果符合客观实际得满分；否则，不得分 | G8: 1 | H8: 1
C9: 1.1.3绩效指标明确性（1分） | D9: 1.1.3.1绩效目标的细化情况（0.5分） | E9: 是否将绩效目标细化分解为具体的每个项目 | F9: 若将绩效目标细化分解为具体的进行指标，得满分；否则，不得分 | G9: 1 | H9: 1
D10: 1.1.3.2指标的完整性（0.5分） | E10: 若对绩效目标细化，细化的指标是否与项目投资额、资金量相匹配，指标是否完整 | F10: 若指标完整，得满分；否则，不得分 | G10: 1 | H10: 1
B11: 1.2资金落实（5分） | C11: 1.2.1资金到位率（3分） | D11: 1.2.1.1财政资金到位率（1.5分） | E11: 资金到位率=财政实际到位资金/财政计划到位资金*100%，实际到位的财政资金与各级财政计划下达的资金数进行对比，检查财政资金是否足额、准确到位 | F11: 评价得分=实际计算的“财政资金到位率”×标准分 | G11: 2 | H11: 2
D12: 1.2.1.2其他资金到位率（1.5分） | E12: 其他到位率=实际到位其他资金/计划到位的其他资金*100%，实际到位的其他资金与计划下达的其他资金数进行对比，检查其他资金是否足额、准确到位（其他资金为：部门整合资金、自筹资金） | F12: 评价得分=实际计算的“其他资金到位率”×标准分 | G12: 1.5 | H12: 0.5
C13: 1.2.2到位及时率（2分） | D13: 1.2.2.1财政资金到位及时率（1分） | E13: 资金到位及时率=及时到位的财政投入资金/财政计划投入资金*100%，反映各级财政资金是否及时到位 | F13: 评价得分=实际计算的“财政资金到位及时率”×标准分 | G13: 1 | H13: 1
D14: 1.2.2.2其他资金到位及时率（1分） | E14: 其他资金到位及时率=及时到位的其他投入资金/计划投入的其他资金*100%，反映其他资金是否及时到位（其他资金为：部门整合资金、自筹资金） | F14: 评价得分=实际计算的“其他资金到位及时率”×标准分 | G14: 1 | H14: 0.5 | I14: =SUM(G5:G14) -> 13.5 | J14: =SUM(H5:H14) -> 12 | K14: 10
A15: 2.过程管理情况（30分） | B15: 2.1业务管理（20.5分） | C15: 2.1.1管理制度健全性（5.5分） | D15: 2.1.1.1项目管理制度（1.5分） | E15: 项目实施单位是否制定或参照相关的项目管理制度 | F15: 若已制定或参照相关的项目管理制度，得满分；否则，不得分 | G15: 2 | H15: 2
D16: 2.1.1.2责任追究机制（1.5分） | E16: 是否按照《云南省财政扶贫资金产业项目管理暂行办法》分级管理、分级责任的管理原则，建立健全扶贫项目责任追究制度 | F16: 若制定项目责任追究制度或办法的，得满分；否则，不得分 | G16: 2 | H16: 2
D17: 2.1.1.3监督检查机制（1.5分） | E17: 是否建立项目监督检查管理办法，并得到有效运行 | F17: 若建立监督检查管理办法并得到有效运行得满分；否则，不得分 | G17: 1.5 | H17: 1.5
D18: 2.1.1.4项目建后维护管理制度（1分） | E18: 项目建成后是否建立运行管护制度，落实管护主体及责任，建立健全各项运行管护制度，发挥长久效益 | F18: 若建立运行管护制度，明确管护责任，得满分；否则，不得分 | G18: 1 | H18: 0.5
C19: 2.1.2制度执行有效性（14分） | D19: 2.1.2.1项目公示（1.5分） | E19: 是否根据《云南省扶贫资金项目公告公示管理办法（暂行）》采用公告公示得方式将所有扶贫项目建设情况和资金使用情况在项目实施地进行公告公示，公示期不得少于7天 | F19: 若进行公示，得满分；若公示时间少于7天得1分；否则，不得分 | G19: 1.5 | H19: 1.3
D20: 2.1.2.2项目实施方案（2分） | E20: 申请实施的项目是否已提交项目建议书，采用竞争优先办法，经相关部门认可，并制定了项目实施计划或方案，报送县（市）区扶贫工作部门 | F20: 若实施的项目经相关部门认可并制定项目实施计划或方案的，的满分；否则，不得分 | G20: 2 | H20: 2
D21: 2.1.2.3项目实施内容的相符性（2分） | E21: 实际实施的项目内容与申报项目内容是否相符，若存在不可抗拒的原因确实需要变更、调整的是否报上级主管部门进行审核批准 | F21: 若对确实存在调整、变更的项目报上级主管部门进行审核批准的，得满分；否则有一个项目未进行审批的扣1分，标准分扣完为止 | G21: 2 | H21: 2
D22: 2.1.2.4项目招投标制（2分） | E22: 是否符合有关规定进行招投标确定施工单位或供货商 | F22: 若符合规定进行招投标得满分；否则，不得分 | G22: 2 | H22: 2
D23: 2.1.2.5项目合同管理制（1分） | E23: 申报项目是否按照《合同法》相关管理制度及法规与招投标确定的施工方及供货单位进行合同、协议的签订及合同管理 | F23: 如已按相关制度、法规签订合同并进行管理，得满分；否则，不得分 | G23: 1 | H23: 1
D24: 2.1.2.6项目竣工验收情况（1.5分） | E24: 是否按照相关管理办法的要求县（市）区扶贫会同财政等相关部门组织对项目进行验收，工程验收提交资料是否完整 | F24: 若符合规定得满分；否则，不得分 | G24: 1.5 | H24: 0.4
D25: 2.1.2.7工程质量保证金（1分） | E25: 是否按《嵩明县财政专项扶贫资金管理办法》对人蓄饮水、道路、多功能活动室等项目建设工程扣留10%质量保证金，质量保修期为1年 | F25: 若按相关制度规定对人蓄饮水、道路、多功能活动室等项目建设工程扣留质保金得满分；否则，有一个项目未扣留扣1分，标准分扣完为止 | G25: 2 | H25: 2
D26: 2.1.2.8群众廉政评议制度建设工作（1分） | E26: 是否建立扶贫项目群众廉政评议制及贫困群众廉政评议员制并得到实施 | F26: 若建立扶贫项目群众廉政评议制及贫困群众廉政评议员制并实施的，得满分；否则，不得分 | G26: 2 | H26: 2
D27: 2.1.2.9项目执行情况上报情况（1分） | E27: 是否按相关制度的规定各项目均实行月报制，于每月20日前将进度报表上报至县扶贫办 | F27: 若按相关制度的规定各项目均实行月报制，得满分；否则，有一个项目未上报扣0.5分，标准分扣完为止 | G27: 1 | H27: 1
D28: 2.1.2.10项目自评工作（1分） | E28: 是否按照《云南省财政扶贫资金产业项目管理暂行办法》规定在项目结束后项目实施主体要主动及时进行绩效自评工作 | F28: 若进行按制度的规定对项目进行自评工作的，得满分；否则，不得分 | G28: 1 | H28: 1
C29: 2.1.3档案管理规范性（1分） | D29: 2.1.3.1项目档案管理档案管理规范（1分） | E29: 项目建成后是否按相关制度指定专人对项目相关档案进行分类、专门管理，确保项目档案管理规范完备，资料完整、齐全 | F29: 若按相关制度指定专人对项目相关档案进行管理，确保项目档案管理规范完备，资料完整、齐全，的满分；否则，不得分 | G29: 2 | H29: 2
B30: 2.2财务管理（9.5分） | C30: 2.2.1管理制度健全性（1分） | D30: 2.2.1.1项目资金管理办法制定情况（1分） | E30: 项目实施单位的财务制度是否健全，用以反映和考核财务管理制度对资金规范、安全运行的保障情况 | F30: 若制定项目资金管理办法得满分；否则，不得分 | G30: 1 | H30: 1
C31: 2.2.2资金使用合规性（7分） | D31: 2.2.2.1项目资金审批程序和手续（1.5分） | E31: 资金的拨付是否有完整的审批程序和手续 | F31: 若项目资金审批程序、手续完整得满分；否则，不得分 | G31: 1.5 | H31: 1.5
D32: 2.2.2.2项目资金专款专用（1.5分） | E32: 项目资金是否符合《嵩明县财政专项扶贫资金管理办法》项目预算批复或合同规定的用途实行专款专用，是否存在截留、挤占、挪用、虚列支出等情况 | F32: 若项目资金专款专用得满分；否则，不得分 | G32: 2 | H32: 2
D33: 2.2.2.3项目资金拨付的合规性（1.5分） | E33: 项目资金的拨付是否直接拨付至项目中标单位和项目合同签订单位 | F33: 若项目资金直接拨付至项目中标单位和项目合同签订单位的，得满分；否则，每发现一笔扣0.5分，标准分扣完为止 | G33: 2 | H33: 2
D34: 2.2.2.4项目资金预拨款制（1分） | E34: 是否根据《嵩明县财政专项扶贫资金管理办法》扶贫项目启动时，首期预拨50%的资金作为项目实施或采购启动资金；工程进度到90%时，追拨30%资金；剩余20%资金待项目竣工验收合格提交审计局审计后拨付，对验收不合格的不在追拨剩余20% | F34: 若按相关制度的要求拨付项目资金，得满分；有一笔款项未按相关制度执行的扣1分，标准分扣完为止 | G34: 1 | H34: 1
D35: 2.2.2.5项目资金回补报账制（1.5分） | E35: 是否根据《嵩明县财政专项扶贫资金管理办法》对扶贫项目资金实行县级回补报账制 | F35: 若按相关制度的要求对项目资金实行县级回补报账制，得满分；否则不得分 | G35: 2 | H35: 2
C36: 2.2.3会计核算规范性（1.5分） | D36: 2.2.3.1单独核算（1.5分） | E36: 是否按照财务制度和项目资金管理制度的要求设置明细科目对项目资金进行单独核算 | F36: 若单独核算得满分；否则，不得分 | G36: 1.5 | H36: 1 | I36: =SUM(G15:G36) -> 35.5 | J36: =SUM(H15:H36) -> 33.2 | K36: 30
A37: 3.产出情况（20）分） | B37: 3.1项目产出（20分） | C37: 3.1.1资金使用率（4分） | E37: 资金使用率=截止2017年12月31日实际投入使用资金/实际到位资金*100%，资金是否及时使用，有无异常结余情况 | F37: 评价得分=实际计算的“资金使用率”×标准分，若结余率超过10%的，则不得分 | G37: 5 | H37: 5
C38: 3.1.2项目完成率（6分） | E38: 项目完成率=截止2017年12月31日实际完成数/计划完成数*100%，建设项目是否完成。 | F38: 评价得分=实际计算的“项目完成率”×标准分 | G38: 6 | H38: 5.5
C39: 3.1.3项目完成及时率（5分） | E39: 项目完成及时率=按时完成数/应完成数*100%，建设项目是否及时完成。 | F39: 评价得分=实际计算的“项目完成及时率”×标准分 | G39: 5 | H39: 4.5
C40: 3.1.4项目质量达标率（5分） | D40: 3.1.4.1项目验收合格率（5分） | E40: 项目验收合格率=验收合格数/实际已完工数*100%，建设项目是否验收合格。 | F40: 评价得分=实际计算的“项目验收合格率”×标准分 | G40: 5 | H40: 4.5 | I40: =SUM(G37:G40) -> 21 | J40: =SUM(H37:H40) -> 19.5 | K40: 20
...

Sheet Sheet1
A3: 评价内容 | B3: 投入情况 | C3: 过程情况 | D3: 产出情况 | E3: 效果情况 | F3: 总分 | G3: 评分等级
A4: 标准分 | B4: 15 | C4: 40 | D4: 25 | E4: 20 | F4: 100 | G4: ——
A5: 实际得分 | B5: 15 | C5: 34.5 | D5: 16 | E5: 18.62 | F5: 84.12 | G5: 良
C6: ='评-2项目情况评分表'!K36*0.9+100*0.1 -> 37
A8: 评价内容 | B8: 投入情况 | C8: 过程情况 | D8: 产出情况 | E8: 效果情况 | F8: 总分 | G8: 评分等级
B9: ='评-2项目情况评分表'!K14 -> 10 | C9: ='评-2项目情况评分表'!K36 -> 30 | D9: ='评-2项目情况评分表'!K40 -> 20 | E9: ='评-2项目情况评分表'!K48 -> 0
A10: =A4 -> 标准分 | B10: =B9*0.9 -> 9 | C10: =C9*0.9+100*0.1 -> 37 | D10: =D9*0.9 -> 18 | E10: =E9*0.9 -> 0 | F10: =SUM(B10:E10) -> 64

Sheet Sheet2
A2: 一级指标 | B2: 二级指标 | C2: 三级指标 | D2: 四级指标
A3: 1.投入情况（10分） | B3: 1.1项目立项（5分） | C3: 1.1.1项目立项规范性（3分） | D3: 1.1.1.1申报程序合规性（2分）
D4: 1.1.1.2申报资料完整性（1分）
C5: 1.1.2绩效目标合理性（1分） | D5: 1.1.2.1绩效目标制定依据的充分性（0.5分）
D6: 1.1.2.2预期产出和效果实现的可能性（0.5分）
C7: 1.1.3绩效指标明确性（1分） | D7: 1.1.3.1绩效目标的细化情况（0.5分）
D8: 1.1.3.2指标的完整性（0.5分）
B9: 1.2资金落实（5分） | C9: 1.2.1资金到位率（3分） | D9: 1.2.1.1财政资金到位率（1.5分）
D10: 1.2.1.2其他资金到位率（1.5分）
C11: 1.2.2到位及时率（2分） | D11: 1.2.2.1财政资金到位及时率（1分）
D12: 1.2.2.2其他资金到位及时率（1分）
A13: 2.过程管理情况（30分） | B13: 2.1业务管理（20.5分） | C13: 2.1.1管理制度健全性（5.5分） | D13: 2.1.1.1项目管理制度（1.5分）
D14: 2.1.1.2责任追究机制（1.5分）
D15: 2.1.1.3监督检查机制（1.5分）
D16: 2.1.1.4项目建后维护管理制度（1分）
C17: 2.1.2制度执行有效性（14分） | D17: 2.1.2.1项目公示（1.5分）
D18: 2.1.2.2项目实施方案（2分）
D19: 2.1.2.3项目实施内容的相符性（2分）
D20: 2.1.2.4项目招投标制（2分）
D21: 2.1.2.5项目合同管理制（1分）
D22: 2.1.2.6项目竣工验收情况（1.5分）
D23: 2.1.2.7工程质量保证金（1分）
D24: 2.1.2.8群众廉政评议制度建设工作（1分）
D25: 2.1.2.9项目执行情况上报情况（1分）
D26: 2.1.2.10项目自评工作（1分）
C27: 2.1.3档案管理规范性（1分） | D27: 2.1.3.1项目档案管理档案管理规范（1分）
B28: 2.2财务管理（9.5分） | C28: 2.2.1管理制度健全性（1分） | D28: 2.2.1.1项目资金管理办法制定情况（1分）
C29: 2.2.2资金使用合规性（7分） | D29: 2.2.2.1项目资金审批程序和手续（1.5分）
D30: 2.2.2.2项目资金专款专用（1.5分）
D31: 2.2.2.3项目资金拨付的合规性（1.5分）
D32: 2.2.2.4项目资金预拨款制（1分）
D33: 2.2.2.5项目资金回补报账制（1.5分）
C34: 2.2.3会计核算规范性（1.5分） | D34: 2.2.3.1单独核算（1.5分）
A35: 3.产出情况（20）分） | B35: 3.1项目产出（20分） | C35: 3.1.1资金使用率（4分）
C36: 3.1.2项目完成率（6分）
C37: 3.1.3项目完成及时率（5分）
C38: 3.1.4项目质量达标率（5分） | D38: 3.1.4.1项目验收合格率（5分）
A39: 4.效果情况（30）分） | B39: 4.1项目效益（30）分） | C39: 4.1.1社会效益（25分） | D39: 4.1.1.1受益户数完成率（3分）
D40: 4.1.1.2群众出行条件的改善情况（4分）
D41: 4.1.1.3群众的人均收入提高的情况（3.5分） | G41: =26+8 -> 34
...

Sheet Sheet3
A1: 一级指标 | B1: 二级指标
A2: 1.项目管理（6分） | B2: 1.1组织领导情况（工作领导小组及办公室）（0.6分）
B3: 1.2申报条件的审核（0.6分）
B4: 1.3绩效目标考核情况（0.6分）
B5: 1.4绩效运行跟踪监控机制（0.6分）
B6: 1.5项目目标责任书（0.6分）
B7: 1.6项目监督检查情况（0.6分）
B8: 1.7项目验收机制（0.6分）
B9: 1.8项目公示（0.4分）
B10: 1.9项目公告、公示督查（0.3分）
B11: 1.10项目绩效自评报告（0.6分）
B12: 1.11档案管理的规范性（0.5分）
A13: 2.资金管理（4分） | B13: 2.1资金拨付的及时性（0.6分）
B14: 2.2项目资金管理制度（0.6分）
B15: 2.3会计核算得规范性（0.6分）
B16: 2.4资金监督检查情况（0.6分）
B17: 2.5项目资金预拨款制（0.5分）
B18: 2.6项目资金回补报账制（0.5分）
B19: 2.7挤占、挪用、截留项目资金情况（0.6分）
